1.5625
0
0
-1.5625
225413.381024
580565.687268
