1.5625
0
0
-1.5625
133499.918024
548001.293913
