1.5625
0
0
-1.5625
255470.637024
577239.220472
