1.5625
0
0
-1.5625
220924.127024
431581.14585
