1.5625
0
0
-1.5625
164912.456024
426954.35935
