1.5625
0
0
-1.5625
197320.425024
353532.002307
