1.5625
0
0
-1.5625
58700.9100236
424173.123327
