1.5625
0
0
-1.5625
206688.067024
529640.098882
