1.5625
0
0
-1.5625
127514.366024
508494.923961
