1.5625
0
0
-1.5625
195902.211024
433074.35089
