1.5625
0
0
-1.5625
165610.238024
586856.470791
