1.5625
0
0
-1.5625
95937.7680236
415061.069429
