1.5625
0
0
-1.5625
79732.6020236
396672.536906
