1.5625
0
0
-1.5625
114146.215024
433220.801465
