1.5625
0
0
-1.5625
187629.395024
421546.304303
