1.5625
0
0
-1.5625
191533.816024
351805.428539
