1.5625
0
0
-1.5625
188048.814024
420680.673457
