1.5625
0
0
-1.5625
134022.225024
483042.224803
