1.5625
0
0
-1.5625
185875.008024
542321.200492
