1.5625
0
0
-1.5625
210636.610024
596466.279886
