1.5625
0
0
-1.5625
136609.584024
421619.218398
