1.5625
0
0
-1.5625
191780.757024
369425.085512
