1.5625
0
0
-1.5625
217151.211024
485034.208394
