1.5625
0
0
-1.5625
65548.2580236
378588.241366
