1.5625
0
0
-1.5625
220080.766024
573483.912925
