1.5625
0
0
-1.5625
251458.902024
564562.898882
