1.5625
0
0
-1.5625
55426.2460236
411099.679055
