1.5625
0
0
-1.5625
186675.257024
341137.929413
