1.5625
0
0
-1.5625
217163.015024
588504.39126
