1.5625
0
0
-1.5625
129260.187024
478294.414102
