1.5625
0
0
-1.5625
188558.394024
546759.770106
