1.5625
0
0
-1.5625
204025.669024
542592.739965
