1.5625
0
0
-1.5625
112718.655024
525196.267181
