1.5625
0
0
-1.5625
247590.278024
538431.246303
