1.5625
0
0
-1.5625
249879.836024
583714.510547
