1.5625
0
0
-1.5625
218576.853024
589204.392744
