1.5625
0
0
-1.5625
85070.9460236
452535.711945
