1.5625
0
0
-1.5625
181264.375024
338570.800933
