1.5625
0
0
-1.5625
248904.432024
545315.902248
