1.5625
0
0
-1.5625
197980.122024
486812.848894
