1.5625
0
0
-1.5625
179722.258024
550345.011437
