1.5625
0
0
-1.5625
201678.969024
566773.658354
