1.5625
0
0
-1.5625
237738.165024
578514.318516
