1.5625
0
0
-1.5625
260671.803024
566121.257488
