1.5625
0
0
-1.5625
188656.468024
432245.099807
