1.5625
0
0
-1.5625
161173.379024
586218.126181
