1.5625
0
0
-1.5625
117286.646024
573319.393701
