1.5625
0
0
-1.5625
262678.406024
585966.891417
