1.5625
0
0
-1.5625
187895.010024
537834.10163
