1.5625
0
0
-1.5625
88268.4670236
404175.81878
